BEGIN:VCALENDAR
VERSION:2.0
PRODID:-//ChamberMaster//Event Calendar 2.0//EN
METHOD:PUBLISH
X-PUBLISHED-TTL:P3D
REFRESH-INTERVAL:P3D
CALSCALE:GREGORIAN
BEGIN:VEVENT
DTSTART:20260509T140000Z
DTEND:20260510T210000Z
X-MICROSOFT-CDO-ALLDAYEVENT:FALSE
SUMMARY:Art by the Barn - Spring
DESCRIPTION:Stop by the 3rd annual Spring Art by the Barn at Emmet County Fairgrounds. Set on the middle lawns\, shop unique art\, creative crafts\, gourmet food and grab a bite to eat from the food trucks! Batik art\, yummy fudge\, Michigan rock art\, paintings\, cute crochet stuffies\, plants and locally foraged wellness items. Open 10am to 5pm Saturday & Sunday We have moved outside and admission is FREE!
X-ALT-DESC;FMTTYPE=text/html:Stop by the 3rd annual Spring Art by the Barn at Emmet County Fairgrounds. Set on the middle lawns\, shop unique art\, creative crafts\, gourmet food and grab a bite to eat from the food trucks! Batik art\, yummy fudge\, Michigan rock art\, paintings\, cute crochet stuffies\, plants and locally foraged wellness items. Open 10am to 5pm Saturday &amp\; Sunday We have moved outside and admission is FREE!
LOCATION:Emmett County Fairgrounds
UID:e.2595.18941
SEQUENCE:3
DTSTAMP:20260422T034713Z
URL:https://www.harborspringschamber.com/events/details/art-by-the-barn-spring-18941
END:VEVENT

END:VCALENDAR
