BEGIN:VCALENDAR
VERSION:2.0
PRODID:-//ChamberMaster//Event Calendar 2.0//EN
METHOD:PUBLISH
X-PUBLISHED-TTL:P3D
REFRESH-INTERVAL:P3D
CALSCALE:GREGORIAN
BEGIN:VEVENT
DTSTART:20260613T230000Z
DTEND:20260614T030000Z
X-MICROSOFT-CDO-ALLDAYEVENT:FALSE
SUMMARY:Band Night at the Legion!
DESCRIPTION:Dust off those dancing shoes and join us for Live Music\, Fun and Dancing! \n\nBand Night at the Legion features Sugarbush from 7pm to 11pm.
X-ALT-DESC;FMTTYPE=text/html:<span style="color:#333333"><span style="font-family:arial\,sans-serif">Dust off those dancing shoes and join us for Live Music\, Fun and Dancing!&nbsp\;</span></span><br />\n<span style="color:#333333"><span style="font-family:arial\,sans-serif">Band Night at the Legion features Sugarbush from 7pm to 11pm.&nbsp\;</span></span>
LOCATION:Smith-Hoover American Legion Post 281 103 E 3rd Street Harbor Springs\, MI
UID:e.2595.18930
SEQUENCE:3
DTSTAMP:20260422T052833Z
URL:https://www.harborspringschamber.com/events/details/band-night-at-the-legion-06-13-2026-18930
END:VEVENT

END:VCALENDAR
