BEGIN:VCALENDAR
VERSION:2.0
PRODID:-//ChamberMaster//Event Calendar 2.0//EN
METHOD:PUBLISH
X-PUBLISHED-TTL:P3D
REFRESH-INTERVAL:P3D
CALSCALE:GREGORIAN
BEGIN:VEVENT
DTSTART:20260424T220000Z
DTEND:20260425T020000Z
X-MICROSOFT-CDO-ALLDAYEVENT:FALSE
SUMMARY:Banff Centre Mountain Film Festival World Tour
DESCRIPTION:Enjoy a special event benefiting the Harbor Springs Lyric Theatre\, TOMMBA\, and Top of Michigan Trails Council on Friday Evening\, April 24\, at the Harbor Springs Performing Arts Center.\n\n \n\nDoors Open & Sponsors Marketplace at 6:00 p.m.\n\nVIP Seating Begins at 6:00 p.m.\, General Admission Seating at 6:30 p.m.\n\nOverall Event 6:00-10:00 p.m.\n\n \n\nBanff Centre Mountain Film and Book Festival is one of the largest and most prestigious mountain festivals in the world! From the over 400 entries submitted to the Festival competition each year\, award-winners and audience favorites are among the films that are carefully selected to play in theatres around the world. Traveling to remote vistas\, analyzing topical environmental issues\, and bringing audiences up-close and personal with adrenaline-packed action sports\, the 2025/2026 World Tour is an exhilarating and provocative exploration of the mountain world.\n\n \n\nMore info and tickets click here.
X-ALT-DESC;FMTTYPE=text/html:<p style="margin: 0px\; padding: 0px\; font-family: Arial\, Verdana\, Helvetica\, sans-serif\; font-size: 14px\; background-color: rgb(255\, 255\, 255)\;"><span style="font-size: 16px\;">Enjoy a special event benefiting the Harbor Springs Lyric Theatre\, TOMMBA\, and Top of Michigan Trails Council on Friday Evening\, April 24\, at the&nbsp\;Harbor Springs Performing Arts Center.</span></p>\n\n<p style="margin: 0px\; padding: 0px\; font-family: Arial\, Verdana\, Helvetica\, sans-serif\; font-size: 14px\; background-color: rgb(255\, 255\, 255)\;">&nbsp\;</p>\n\n<p style="margin: 0px\; padding: 0px\; font-family: Arial\, Verdana\, Helvetica\, sans-serif\; font-size: 14px\; background-color: rgb(255\, 255\, 255)\;"><span style="font-size: 16px\;">Doors Open &amp\; Sponsors Marketplace at 6:00 p.m.</span></p>\n\n<p style="margin: 0px\; padding: 0px\; font-family: Arial\, Verdana\, Helvetica\, sans-serif\; font-size: 14px\; background-color: rgb(255\, 255\, 255)\;"><span style="font-size: 16px\;">VIP Seating Begins at 6:00 p.m.\, General Admission Seating at 6:30 p.m.</span></p>\n\n<p style="margin: 0px\; padding: 0px\; font-family: Arial\, Verdana\, Helvetica\, sans-serif\; font-size: 14px\; background-color: rgb(255\, 255\, 255)\;"><span style="font-size: 16px\;">Overall Event 6:00-10:00 p.m.</span></p>\n\n<p style="margin: 0px\; padding: 0px\; font-family: Arial\, Verdana\, Helvetica\, sans-serif\; font-size: 14px\; background-color: rgb(255\, 255\, 255)\;">&nbsp\;</p>\n\n<p style="margin: 0px\; padding: 0px\; font-family: Arial\, Verdana\, Helvetica\, sans-serif\; font-size: 14px\; background-color: rgb(255\, 255\, 255)\;"><span style="font-size: 16px\;">Banff Centre Mountain Film and Book Festival is one of the largest and most prestigious mountain festivals in the world! From the over 400 entries submitted to the Festival competition each year\, award-winners and audience favorites are among the films that are carefully selected to play in theatres around the world. Traveling to remote vistas\, analyzing topical environmental issues\, and bringing audiences up-close and personal with adrenaline-packed action sports\, the 2025/2026 World Tour is an exhilarating and provocative exploration of the mountain world.</span></p>\n\n<p style="margin: 0px\; padding: 0px\; font-family: Arial\, Verdana\, Helvetica\, sans-serif\; font-size: 14px\; background-color: rgb(255\, 255\, 255)\;"><span style="font-size: 16px\;">&nbsp\;</span></p>\n\n<p style="margin: 0px\; padding: 0px\; font-family: Arial\, Verdana\, Helvetica\, sans-serif\; font-size: 14px\; background-color: rgb(255\, 255\, 255)\;"><span style="font-size: 16px\;">More info and tickets&nbsp\;</span><a href="https://www.lyricharborsprings.org/banffwt/" rel="noopener noreferrer" style="text-decoration-line: none\; font-size: 16px\; color: rgb(40\, 79\, 161)\; font-weight: bold\;" target="_blank">click here</a><span style="font-size: 16px\;">.</span></p>\n
LOCATION:Harbor Springs Performing Arts Center 500 N Spring St\, Harbor Springs\, MI 49740
UID:e.2595.18833
SEQUENCE:3
DTSTAMP:20260425T031643Z
URL:https://www.harborspringschamber.com/events/details/banff-centre-mountain-film-festival-world-tour-18833
END:VEVENT

END:VCALENDAR
