BEGIN:VCALENDAR
VERSION:2.0
PRODID:-//ChamberMaster//Event Calendar 2.0//EN
METHOD:PUBLISH
X-PUBLISHED-TTL:P3D
REFRESH-INTERVAL:P3D
CALSCALE:GREGORIAN
BEGIN:VEVENT
DTSTART:20260514T223000Z
DTEND:20260515T010000Z
X-MICROSOFT-CDO-ALLDAYEVENT:FALSE
SUMMARY:Captian Phillips at the Legion!
DESCRIPTION:Captain Phillips\, whose ship\, the MV Maersk Alabama\, was taken captive by a group of Somali pirates before Phillips himself was held hostage on an enclosed lifeboat\, will speak at the Smith Hoover American Legion Post 281.  Join us for his presentation and meet Captain Phillips and Crewmembers who were onboard.\n\n\n\nOpen to the Public\n\n\n\nAll proceeds from this event will go to a Veterans Organization of Captian Phillips choice.
X-ALT-DESC;FMTTYPE=text/html:Captain Phillips\, whose ship\, the MV Maersk Alabama\, was taken captive by a group of Somali pirates before Phillips himself was held hostage on an enclosed lifeboat\, will speak at the Smith Hoover American Legion Post 281.&nbsp\; Join us for his presentation and meet Captain Phillips and Crewmembers who were onboard.<br />\n<br />\nOpen to the Public<br />\n<br />\nAll proceeds from this event will go to a Veterans Organization of Captian Phillips choice.
LOCATION:Smith-Hoover American Legion Post 281 103 E 3rd Street Harbor Springs\, MI
UID:e.2595.18929
SEQUENCE:3
DTSTAMP:20260422T034751Z
URL:https://www.harborspringschamber.com/events/details/captian-phillips-at-the-legion-18929
END:VEVENT

END:VCALENDAR
