BEGIN:VCALENDAR
VERSION:2.0
PRODID:-//ChamberMaster//Event Calendar 2.0//EN
METHOD:PUBLISH
X-PUBLISHED-TTL:P3D
REFRESH-INTERVAL:P3D
CALSCALE:GREGORIAN
BEGIN:VEVENT
DTSTART:20261003T140000Z
DTEND:20261004T210000Z
X-MICROSOFT-CDO-ALLDAYEVENT:FALSE
SUMMARY:Colors by the Lake - Art & Craft Show
DESCRIPTION:5th annual Colors by the Lake art & Craft shows has moved to the lawns of Stafford's Bayview Inn. Stafford's Bay View Inn is located at 2011 Woodland Ave\, Petoskey\, MI 49770. Situated in the historic Bay View community on Little Traverse Bay\, it is a Victorian-style inn known for its lakeside setting and dining\, located just outside downtown Petoskey. This event is always supported for early holiday gift buying. Additional Wine Tasting by Bayview Inn of local wineries. 13 categories accepted ranging from sculpture\, glass\, metal\, Batik art\, yummy fudge\, Michigan rock art\, paintings\, cute crochet stuffies\, plants and locally foraged wellness items and so much more. During the week\, there will be a quick draw painting day & competition\, a guided plant identification walk\, a kids make and take art project and more. Watch for signups at www.blueribbonevent.com Open 10am to 5pm Saturday & Sunday We have moved outside and admission is FREE!
X-ALT-DESC;FMTTYPE=text/html:5th annual Colors by the Lake art &amp\; Craft shows has moved to the lawns of Stafford&#39\;s Bayview Inn. Stafford&#39\;s Bay View Inn is located at 2011 Woodland Ave\, Petoskey\, MI 49770. Situated in the historic Bay View community on Little Traverse Bay\, it is a Victorian-style inn known for its lakeside setting and dining\, located just outside downtown Petoskey. This event is always supported for early holiday gift buying. Additional Wine Tasting by Bayview Inn of local wineries. 13 categories accepted ranging from sculpture\, glass\, metal\, Batik art\, yummy fudge\, Michigan rock art\, paintings\, cute crochet stuffies\, plants and locally foraged wellness items and so much more. During the week\, there will be a quick draw painting day &amp\; competition\, a guided plant identification walk\, a kids make and take art project and more. Watch for signups at www.blueribbonevent.com Open 10am to 5pm Saturday &amp\; Sunday We have moved outside and admission is FREE!
LOCATION:Stafford's Bayview Inn back lawn 2011 Woodland Ave\, Petoskey\, MI 49770
UID:e.2595.18945
SEQUENCE:3
DTSTAMP:20260422T113548Z
URL:https://www.harborspringschamber.com/events/details/colors-by-the-lake-art-craft-show-10-03-2026-18945
END:VEVENT

END:VCALENDAR
