BEGIN:VCALENDAR
VERSION:2.0
PRODID:-//ChamberMaster//Event Calendar 2.0//EN
METHOD:PUBLISH
X-PUBLISHED-TTL:P3D
REFRESH-INTERVAL:P3D
CALSCALE:GREGORIAN
BEGIN:VEVENT
DTSTART:20260506T220000Z
DTEND:20260506T230000Z
X-MICROSOFT-CDO-ALLDAYEVENT:FALSE
SUMMARY:Community Connections: Nursing Home 101 at Bay Bluffs
DESCRIPTION:After a successful kick-off to the 2026 Community Connections series\, Bay Bluffs is presenting TOPIC: \n\nNursing Home 101\n\nWednesday\, May 6\, 2026\n\n6 - 7pm\n\n \n\nTo register\, CLICK or call 231-526-2161.\n\n \n\nBay Bluffs Emmet County Medical Care Facility\n\n750 E Main Street\, Harbor Springs\n\n \n\nAn informative session to help individuals and families better understand what happens when \n\na health event requires in-patient rehabilitation or nursing home care. Learn what admission after a hospital stay may look like\, how Medicare and Medicare Advantage affect skilled services\, and how to navigate decisions when returning home may not be possible.\n\n \n\nAsk questions and connect with knowledgeable staff in a supportive and welcoming setting.\n\n \n\n \n\nYou'll Learn:\n\n	What comes next when a hospital stay leads to rehab or skilled nursing care\n	How Medicare and Medicare Advantage cover skilled services\n	When returning home may not be possible\n	What qualifying for long-term care may look like\n	What advance planning tools like Power of Attorney and guardianship mean for families\n\n \n\nThose interested in receiving the Bay Bluffs enewsletter can complete the Contact form on the website. And\, follow Bay Bluffs on Facebook and Instagram for frequent updates and news.
X-ALT-DESC;FMTTYPE=text/html:After a successful kick-off to the 2026 Community Connections series\, Bay Bluffs is presenting TOPIC:&nbsp\;<br />\nNursing Home 101<br />\nWednesday\, May 6\, 2026<br />\n6 - 7pm<br />\n&nbsp\;<br />\nTo register\, <a href="https://secure.lglforms.com/form_engine/s/Hi5E4klvWo2VykemFj11Cg">CLICK</a> or call <a href="tel: 231-526-2161">231-526-2161</a>.<br />\n&nbsp\;<br />\nBay Bluffs&ndash\;Emmet County Medical Care Facility<br />\n750 E Main Street\, Harbor Springs<br />\n&nbsp\;<br />\nAn informative session to help individuals and families better understand what happens when&nbsp\;<br />\na health event requires in-patient rehabilitation or nursing home care. Learn what admission after a hospital stay may look like\, how Medicare and Medicare Advantage affect skilled services\, and how to navigate decisions when returning home may not be possible.<br />\n&nbsp\;<br />\nAsk questions and connect with knowledgeable staff in a supportive and welcoming setting.<br />\n&nbsp\;<br />\n&nbsp\;<br />\nYou&rsquo\;ll Learn:\n<ul>\n	<li>What comes next when a hospital stay leads to rehab&nbsp\;or skilled nursing care</li>\n	<li>How Medicare and Medicare Advantage cover skilled services</li>\n	<li>When returning home&nbsp\;may not be possible</li>\n	<li>What qualifying for&nbsp\;long-term care may look like</li>\n	<li>What advance planning tools like Power of Attorney and guardianship mean for families</li>\n</ul>\n&nbsp\;<br />\nThose interested in receiving the Bay Bluffs enewsletter can complete the&nbsp\;<u>Contact form</u>&nbsp\;on the website. And\, follow Bay Bluffs on&nbsp\;<u>Facebook</u>&nbsp\;and&nbsp\;<u>Instagram</u>&nbsp\;for frequent updates and news.
LOCATION:Bay Bluffs Emmet County Medical Care Facility 750 E Main Street\, Harbor Springs
UID:e.2595.18947
SEQUENCE:3
DTSTAMP:20260422T034903Z
URL:https://www.harborspringschamber.com/events/details/community-connections-nursing-home-101-at-bay-bluffs-18947
END:VEVENT

END:VCALENDAR
