BEGIN:VCALENDAR
VERSION:2.0
PRODID:-//ChamberMaster//Event Calendar 2.0//EN
METHOD:PUBLISH
X-PUBLISHED-TTL:P3D
REFRESH-INTERVAL:P3D
CALSCALE:GREGORIAN
BEGIN:VEVENT
DTSTART:20260425T223000Z
DTEND:20260426T000000Z
X-MICROSOFT-CDO-ALLDAYEVENT:FALSE
SUMMARY:Concert
DESCRIPTION:The Harbor Springs United Methodist\, 343 E Main Street\, will host a free concert on Saturday\, April 25 at 6:30 p.m.  The duo of Jackie Davidson (original member of the Grammy award winning New Christy Minstrels and the famed duo\, Jackie and Gayle) along with Gary Brandt (published song writer and folk performer) will present their program\, "Trust God...Be Thankful". Classic\, contemporary and original music will be presented along with humor\, audience interaction and participation. The program is free and open to the public. We think you will find this program to be a fun and uplifting experience!  Yes\, their dog will be here too!
X-ALT-DESC;FMTTYPE=text/html:The Harbor Springs United Methodist\, 343 E Main Street\, will host a free concert on Saturday\, April 25 at 6:30 p.m.&nbsp\; The duo of Jackie Davidson (original member of the Grammy award winning New Christy Minstrels and the famed duo\, Jackie and Gayle) along with Gary Brandt (published song writer and folk performer) will present their program\, &quot\;Trust God...Be Thankful&quot\;. Classic\, contemporary and original music will be presented along with humor\, audience interaction and participation. The program is free and open to the public. We think you will find this program to be a fun and uplifting experience!&nbsp\; Yes\, their dog will be here too!
LOCATION:Harbor Springs United Methodist Church 343 E Main Street in downtown Harbor Springs
UID:e.2595.18946
SEQUENCE:3
DTSTAMP:20260420T202907Z
URL:https://www.harborspringschamber.com/events/details/concert-18946
END:VEVENT

END:VCALENDAR
