BEGIN:VCALENDAR
VERSION:2.0
PRODID:-//ChamberMaster//Event Calendar 2.0//EN
METHOD:PUBLISH
X-PUBLISHED-TTL:P3D
REFRESH-INTERVAL:P3D
CALSCALE:GREGORIAN
BEGIN:VEVENT
DTSTART:20260720T140000Z
DTEND:20260723T210000Z
X-MICROSOFT-CDO-ALLDAYEVENT:FALSE
SUMMARY:Enchanted Art Market at the Castle Art & Crafts Show
DESCRIPTION:Stop by the 2nd annual Enchanted Art Market at Castle Farms. Set on central courtyard\, shop unique art\, creative crafts\, gourmet food and grab a bite to eat from the food trucks! 13 categories accepted ranging from sculpture\, glass\, metal\, Batik art\, yummy fudge\, Michigan rock art\, paintings\, cute crochet stuffies\, plants and locally foraged wellness items and so much more. During the week\, there will be a quick draw painting day & competition\, a guided plant identification walk\, a kids make and take art project and more. Watch for signups at www.blueribbonevent.com Open 10am to 5pm Saturday & Sunday We have moved outside and admission is FREE!
X-ALT-DESC;FMTTYPE=text/html:Stop by the 2nd annual Enchanted Art Market at Castle Farms. Set on central courtyard\, shop unique art\, creative crafts\, gourmet food and grab a bite to eat from the food trucks! 13 categories accepted ranging from sculpture\, glass\, metal\, Batik art\, yummy fudge\, Michigan rock art\, paintings\, cute crochet stuffies\, plants and locally foraged wellness items and so much more. During the week\, there will be a quick draw painting day &amp\; competition\, a guided plant identification walk\, a kids make and take art project and more. Watch for signups at www.blueribbonevent.com Open 10am to 5pm Saturday &amp\; Sunday We have moved outside and admission is FREE!
LOCATION:Castle Farms 5052 M-66\, Charlevoix\, MI 49720
UID:e.2595.18943
SEQUENCE:3
DTSTAMP:20260424T104358Z
URL:https://www.harborspringschamber.com/events/details/enchanted-art-market-at-the-castle-art-crafts-show-18943
END:VEVENT

END:VCALENDAR
