BEGIN:VCALENDAR
VERSION:2.0
PRODID:-//ChamberMaster//Event Calendar 2.0//EN
METHOD:PUBLISH
X-PUBLISHED-TTL:P3D
REFRESH-INTERVAL:P3D
CALSCALE:GREGORIAN
BEGIN:VEVENT
DTSTART:20260725T140000Z
DTEND:20260726T210000Z
X-MICROSOFT-CDO-ALLDAYEVENT:FALSE
SUMMARY:Midsummer Art & Crafts Show
DESCRIPTION:Stop by the 4th annual Midsummer Art & Craft at Emmet County Fairgrounds. Set on the middle lawns\, shop unique art\, creative crafts\, gourmet food and grab a bite to eat from the food trucks! 13 categories accepted ranging from sculpture\, glass\, metal\, Batik art\, yummy fudge\, Michigan rock art\, paintings\, cute crochet stuffies\, plants and locally foraged wellness items and so much more. Open 10am to 5pm Saturday & Sunday We have moved outside and admission is FREE!
X-ALT-DESC;FMTTYPE=text/html:Stop by the 4th annual Midsummer Art &amp\; Craft at Emmet County Fairgrounds. Set on the middle lawns\, shop unique art\, creative crafts\, gourmet food and grab a bite to eat from the food trucks! 13 categories accepted ranging from sculpture\, glass\, metal\, Batik art\, yummy fudge\, Michigan rock art\, paintings\, cute crochet stuffies\, plants and locally foraged wellness items and so much more. Open 10am to 5pm Saturday &amp\; Sunday We have moved outside and admission is FREE!
LOCATION:Emmett County Fairgrounds
UID:e.2595.18942
SEQUENCE:3
DTSTAMP:20260422T070356Z
URL:https://www.harborspringschamber.com/events/details/midsummer-art-crafts-show-18942
END:VEVENT

END:VCALENDAR
