BEGIN:VCALENDAR
VERSION:2.0
PRODID:-//ChamberMaster//Event Calendar 2.0//EN
METHOD:PUBLISH
X-PUBLISHED-TTL:P3D
REFRESH-INTERVAL:P3D
CALSCALE:GREGORIAN
BEGIN:VEVENT
DTSTART:20260510T140000Z
DTEND:20260510T180000Z
X-MICROSOFT-CDO-ALLDAYEVENT:FALSE
SUMMARY:Mother's Day Brunch at Country Club of Boyne
DESCRIPTION:Make this Mother's Day one to remember with a prepared brunch in the cozy atmosphere of the Country Club of Boyne. From fresh fruit to savory favorites and desserts\, every bite is made to make Mom feel special.
X-ALT-DESC;FMTTYPE=text/html:Make this Mother&#39\;s Day one to remember with a prepared brunch in the cozy atmosphere of the Country Club of Boyne. From fresh fruit to savory favorites and desserts\, every bite is made to make Mom feel special.
LOCATION:Country Club of Boyne 334 Heather Drive Harbor Springs\, MI 49740
UID:e.2595.18896
SEQUENCE:3
DTSTAMP:20260422T035107Z
URL:https://www.harborspringschamber.com/events/details/mother-s-day-brunch-at-country-club-of-boyne-05-10-2026-18896
END:VEVENT

END:VCALENDAR
