BEGIN:VCALENDAR
VERSION:2.0
PRODID:-//ChamberMaster//Event Calendar 2.0//EN
METHOD:PUBLISH
X-PUBLISHED-TTL:P3D
REFRESH-INTERVAL:P3D
CALSCALE:GREGORIAN
BEGIN:VEVENT
DTSTART:20260731T220000Z
DTEND:20260801T000000Z
X-MICROSOFT-CDO-ALLDAYEVENT:FALSE
SUMMARY:North Peak Guided Hike & Sound Bath
DESCRIPTION:Soak in the beauty of the outdoors and the calming energy of sound with this unique experience. You will begin with a scenic chairlift ride and guided hike to the top of North Peak\, where you will settle in for a grounding\, one-hour sound bath in nature. Afterward\, descend together feeling refreshed\, connected\, and renewed.
X-ALT-DESC;FMTTYPE=text/html:Soak in the beauty of the outdoors and the calming energy of sound with this unique experience. You will begin with a scenic chairlift ride and guided hike to the top of North Peak\, where you will settle in for a grounding\, one-hour sound bath in nature. Afterward\, descend together feeling refreshed\, connected\, and renewed.
LOCATION:The Highlands | 600 Highlands Dr\, Harbor Springs
UID:e.2595.18939
SEQUENCE:3
DTSTAMP:20260422T070318Z
URL:https://www.harborspringschamber.com/events/details/north-peak-guided-hike-sound-bath-07-31-2026-18939
END:VEVENT

END:VCALENDAR
