BEGIN:VCALENDAR
VERSION:2.0
PRODID:-//ChamberMaster//Event Calendar 2.0//EN
METHOD:PUBLISH
X-PUBLISHED-TTL:P3D
REFRESH-INTERVAL:P3D
CALSCALE:GREGORIAN
BEGIN:VEVENT
DTSTART:20240629T130000Z
DTEND:20240629T140000Z
X-MICROSOFT-CDO-ALLDAYEVENT:FALSE
SUMMARY:Petosega 5k Fun run and Walk
DESCRIPTION:-Come join Emmet County Parks and Recreation for a 5K run and walk for all ages which will benefit our local parks and facilities. Wear red\, white\, and blue in celebration of Independence Day! This will take place at Camp Petosega in Alanson\, Michigan on the cross country trail. Early registration fee is $15 and $25 for signing up on the day of the event. Register early to secure a T-shirt while supply lasts. Find the application at www.camppetosega.org/events/ and for more information\, email alavigne@emmetcounty.org.
X-ALT-DESC;FMTTYPE=text/html:-Come join Emmet County Parks and Recreation for a 5K run and walk for all ages which will benefit our local parks and facilities. Wear red\, white\, and blue in celebration of Independence Day! This will take place at Camp Petosega in Alanson\, Michigan on the cross country trail. Early registration fee is $15 and $25 for signing up on the day of the event. Register early to secure a T-shirt while supply lasts. Find the application at www.camppetosega.org/events/ and for more information\, email alavigne@emmetcounty.org.
LOCATION:11000 Camp Petosega Road\, Alanson\, MI 49706
UID:e.2595.14339
SEQUENCE:3
DTSTAMP:20260425T130530Z
URL:https://www.harborspringschamber.com/events/details/petosega-5k-fun-run-and-walk-14339
END:VEVENT

END:VCALENDAR
