BEGIN:VCALENDAR
VERSION:2.0
PRODID:-//ChamberMaster//Event Calendar 2.0//EN
METHOD:PUBLISH
X-PUBLISHED-TTL:P3D
REFRESH-INTERVAL:P3D
CALSCALE:GREGORIAN
BEGIN:VEVENT
DTSTART:20260502T223000Z
DTEND:20260503T003000Z
X-MICROSOFT-CDO-ALLDAYEVENT:FALSE
SUMMARY:The Adventurer’s Feast — A Dungeons & Dragons Dining Experience at City Park Grill
DESCRIPTION:The Adventurer's Feast   A Dungeons & Dragons Dining Experience at City Park Grill\n\n \n\nSaturday\, May 2 | 6:30pm\n\nFive courses: $50/per adventurer (plus tax & gratuity)\n\nReservations required: 231.347.0101 \n\n \n\nGather your party. Adventure awaits.\n\nHear ye! Hear ye! City Park Grill is gathering their wittiest dungeon masters\, their bravest wizards and most adventurous goblins for one night only\, Saturday\, May 2\, at 6:30pm! The Adventurer's Feast DUNGEONS & DRAGONS dining experience features five themed courses to fuel your party for the quest ahead. With encounters along the way\, your choices may shape the night.\n\n \n\nAdventurers  don't be boring. \n\nCostumes aren't required\, but they are highly encouraged.\n\nShow up as your character\, your class\, your alter ego\, your main character energy.\n\nRogue\, ranger\, bard  or full chaos gremlin we support it.\n\n \n\nFor the safety of all adventurers\, any metal weapons brought as part of a costume must be peace-bonded (zip-tied)\, so they cannot be unsheathed or used.\n\n \n\nAll steel and iron must remain bound within these walls\, any blade not secured will be turned away at the gate.\n\nThank you for helping us keep the realm safe and the evening legendary.\n\n \n\nSeats are limited ..\n\nThe Dungeon Master awaits your party!
X-ALT-DESC;FMTTYPE=text/html:<h2>The Adventurer&rsquo\;s Feast &mdash\; A Dungeons &amp\; Dragons Dining Experience at City Park Grill</h2>\n\n<p>&nbsp\;</p>\n\n<p>Saturday\, May 2 | 6:30pm</p>\n\n<p>Five courses: $50/per adventurer (plus tax &amp\; gratuity)</p>\n\n<p>Reservations required:&nbsp\;<a href="tel: 231-347-0101" rel="noopener noreferrer" style="box-sizing: border-box\; border-width: 0px\; border-style: solid\; border-color: rgb(229\, 231\, 235)\; --tw-border-spacing-x: 0\; --tw-border-spacing-y: 0\; --tw-translate-x: 0\; --tw-translate-y: 0\; --tw-rotate: 0\; --tw-skew-x: 0\; --tw-skew-y: 0\; --tw-scale-x: 1\; --tw-scale-y: 1\; --tw-pan-x: \; --tw-pan-y: \; --tw-pinch-zoom: \; --tw-scroll-snap-strictness: proximity\; --tw-gradient-from-position: \; --tw-gradient-via-position: \; --tw-gradient-to-position: \; --tw-ordinal: \; --tw-slashed-zero: \; --tw-numeric-figure: \; --tw-numeric-spacing: \; --tw-numeric-fraction: \; --tw-ring-inset: \; --tw-ring-offset-width: 0px\; --tw-ring-offset-color: #fff\; --tw-ring-color: rgb(59 130 246 / 0.5)\; --tw-ring-offset-shadow: 0 0 #0000\; --tw-ring-shadow: 0 0 #0000\; --tw-shadow: 0 0 #0000\; --tw-shadow-colored: 0 0 #0000\; --tw-blur: \; --tw-brightness: \; --tw-contrast: \; --tw-grayscale: \; --tw-hue-rotate: \; --tw-invert: \; --tw-saturate: \; --tw-sepia: \; --tw-drop-shadow: \; --tw-backdrop-blur: \; --tw-backdrop-brightness: \; --tw-backdrop-contrast: \; --tw-backdrop-grayscale: \; --tw-backdrop-hue-rotate: \; --tw-backdrop-invert: \; --tw-backdrop-opacity: \; --tw-backdrop-saturate: \; --tw-backdrop-sepia: \; --tw-contain-size: \; --tw-contain-layout: \; --tw-contain-paint: \; --tw-contain-style: \; color: rgb(101\, 76\, 33)\; cursor: pointer\; font-style: inherit\; font-variant-caps: inherit\; font-stretch: inherit\; font-size: inherit\; line-height: inherit\; font-family: inherit\; font-size-adjust: inherit\; font-kerning: inherit\; font-variant-alternates: inherit\; font-variant-ligatures: inherit\; font-variant-numeric: inherit\; font-variant-east-asian: inherit\; font-variant-position: inherit\; font-feature-settings: inherit\; font-optical-sizing: inherit\; font-variation-settings: inherit\;" target="_blank">231.347.0101&nbsp\;</a></p>\n\n<p>&nbsp\;</p>\n\n<p>Gather your party. Adventure awaits.</p>\n\n<p>Hear ye! Hear ye! City Park Grill is gathering their wittiest dungeon masters\, their bravest wizards and most adventurous goblins for one night only\, Saturday\, May 2\, at 6:30pm! The Adventurer&rsquo\;s Feast DUNGEONS &amp\; DRAGONS dining experience features five themed courses to fuel your party for the quest ahead. With encounters along the way\, your choices may shape the night.</p>\n\n<p>&nbsp\;</p>\n\n<p>Adventurers&hellip\; don&rsquo\;t be boring.&nbsp\;</p>\n\n<p>Costumes aren&rsquo\;t required\, but they are highly encouraged.</p>\n\n<p>Show up as your character\, your class\, your alter ego\, your main character energy.</p>\n\n<p>Rogue\, ranger\, bard&hellip\; or full chaos gremlin&hellip\;we support it.</p>\n\n<p>&nbsp\;</p>\n\n<p>For the safety of all adventurers\, any metal weapons brought as part of a costume must be peace-bonded (zip-tied)\, so they cannot be unsheathed or used.</p>\n\n<p>&nbsp\;</p>\n\n<p>All steel and iron must remain bound within these walls\, any blade not secured will be turned away at the gate.</p>\n\n<p>Thank you for helping us keep the realm safe and the evening legendary.</p>\n\n<p>&nbsp\;</p>\n\n<p>Seats are limited&hellip\;..</p>\n\n<p>The Dungeon Master awaits your party!</p>\n
LOCATION:City Park Grill 432 E. Lake St. Petoskey\, MI 49770
UID:e.2595.18948
SEQUENCE:3
DTSTAMP:20260422T034907Z
URL:https://www.harborspringschamber.com/events/details/the-adventurer-s-feast-a-dungeons-dragons-dining-experience-at-city-park-grill-18948
END:VEVENT

END:VCALENDAR
