BEGIN:VCALENDAR
VERSION:2.0
PRODID:-//ChamberMaster//Event Calendar 2.0//EN
METHOD:PUBLISH
X-PUBLISHED-TTL:P3D
REFRESH-INTERVAL:P3D
CALSCALE:GREGORIAN
BEGIN:VEVENT
DTSTART:20260801T140000Z
DTEND:20260802T210000Z
X-MICROSOFT-CDO-ALLDAYEVENT:FALSE
SUMMARY:The Invitational at Bayview Inn - Art Show
DESCRIPTION:The Invitational at Bayview is set on the back lawns of Stafford's Bayview Inn. Stafford's Bay View Inn is located at 2011 Woodland Ave\, Petoskey\, MI 49770. Situated in the historic Bay View community on Little Traverse Bay\, it is a Victorian-style inn known for its lakeside setting and dining\, located just outside downtown Petoskey. A special quick draw paint out to take place late Saturday afternoon in addition to Art & Craft show. Additional Wine Tasting by Bayview Inn of local wineries. 13 categories accepted ranging from sculpture\, glass\, metal\, Batik art\, yummy fudge\, Michigan rock art\, paintings\, cute crochet stuffies\, plants and locally foraged wellness items and so much more. During the week\, there will be a quick draw painting day & competition\, a guided plant identification walk\, a kids make and take art project and more. Watch for signups at www.blueribbonevent.com Open 10am to 5pm Saturday & Sunday We have moved outside and admission is FREE!
X-ALT-DESC;FMTTYPE=text/html:The Invitational at Bayview is set on the back lawns of Stafford&#39\;s Bayview Inn. Stafford&#39\;s Bay View Inn is located at 2011 Woodland Ave\, Petoskey\, MI 49770. Situated in the historic Bay View community on Little Traverse Bay\, it is a Victorian-style inn known for its lakeside setting and dining\, located just outside downtown Petoskey. A special quick draw paint out to take place late Saturday afternoon in addition to Art &amp\; Craft show. Additional Wine Tasting by Bayview Inn of local wineries. 13 categories accepted ranging from sculpture\, glass\, metal\, Batik art\, yummy fudge\, Michigan rock art\, paintings\, cute crochet stuffies\, plants and locally foraged wellness items and so much more. During the week\, there will be a quick draw painting day &amp\; competition\, a guided plant identification walk\, a kids make and take art project and more. Watch for signups at www.blueribbonevent.com Open 10am to 5pm Saturday &amp\; Sunday We have moved outside and admission is FREE!
LOCATION:Stafford's Bayview Inn back lawn 2011 Woodland Ave\, Petoskey\, MI 49770
UID:e.2595.18944
SEQUENCE:3
DTSTAMP:20260422T084906Z
URL:https://www.harborspringschamber.com/events/details/the-invitational-at-bayview-inn-art-show-18944
END:VEVENT

END:VCALENDAR
