BEGIN:VCALENDAR
VERSION:2.0
PRODID:-//ChamberMaster//Event Calendar 2.0//EN
METHOD:PUBLISH
X-PUBLISHED-TTL:P3D
REFRESH-INTERVAL:P3D
CALSCALE:GREGORIAN
BEGIN:VEVENT
DTSTART:20251217T140000Z
DTEND:20251217T210000Z
X-MICROSOFT-CDO-ALLDAYEVENT:FALSE
SUMMARY:NMWC/HSACC 2025 Nub's Nob Artist Registration - Now Open
DESCRIPTION:Artist Registration is Now Open\n\nThe Northern Michigan Woman's Club and the Harbor Springs Area Chamber of Commerce are excited to invite you to apply as an exhibitor for the Annual Art Fair on Wednesday\, July 16\, 2025\, at Nub's Nob. This event is a great chance for artists to add a midweek show to their summer schedule in Northern Michigan. Space is limited\, so be sure to submit your application early to secure your booth!\n\n\n\nSHOW DETAILS\n\nDate: Wednesday\, July 16\, 2025\n\nTime: 9 a.m. - 4 p.m.\n\n\n\nMEDIA ACCEPTED\n\nFiber\, Glass\, Graphics\, Jewelry\, Metal\, Mixed Media\, Painting\, Pottery\, Sculpture\, Wood.\n\n\n\nELIGIBILITY\n\nAll media must be original in concept and execution and handmade by the exhibitor.\n\n\n\nEVENT LINKS\n\n	Registration Form\n	Updated Booth Map and Pricing
X-ALT-DESC;FMTTYPE=text/html:<br />\n<strong><span style="color:#333333\;"><span style="font-family:merriweather\;"><span style="font-size:14.0pt\;">Artist Registration is Now Open</span></span></span></strong><br />\n<span style="color:#333333\;"><span style="font-family:open sans\,sans-serif\;"><span style="font-size:11.0pt\;">The Northern Michigan Woman&#39\;s Club and the Harbor Springs Area Chamber of Commerce are excited to invite you to apply as an exhibitor for the Annual Art Fair on Wednesday\, July 16\, 2025\, at Nub&#39\;s Nob. This event is a great chance for artists to add a midweek show to their summer schedule in Northern Michigan. Space is limited\, so be sure to submit your application early to secure your booth!<br />\n<br />\nSHOW DETAILS<br />\nDate: Wednesday\, July 16\, 2025<br />\nTime: 9 a.m. - 4 p.m.</span></span></span><br />\n<br />\n<span style="background:white\;"><span style="color:#333333\;"><span style="font-family:open sans\,sans-serif\;"><span style="font-size:11.5pt\;">MEDIA ACCEPTED</span></span></span></span><br style="box-sizing:content-box\;inset:auto\;content:normal\;empty-cells:show\;font-variant-numeric:inherit\;font-variant-east-asian:inherit\;font-variant-alternates:inherit\;font-variant-position:inherit\;font-variant-emoji:inherit\;font-stretch:inherit\;font-optical-sizing:inherit\;font-size-adjust:inherit\;font-kerning:inherit\;font-feature-settings:inherit\;font-variation-settings:inherit\;line-height:inherit\;max-height:none\;max-width:none\;min-height:initial\;min-width:initial\;opacity:1\;outline-offset:0px\;resize:none\;text-overflow:clip\;word-break:inherit\;overflow-wrap:inherit\;border-width:initial\;border-image:none 100% 1 0 / 1 / 0 stretch\;border-radius:0px\;float:none\;overflow:visible\;visibility:inherit\;z-index:auto\;" />\n<span style="color:#333333\;"><span style="font-family:open sans\,sans-serif\;"><span style="font-size:11.5pt\;"><span style="background:white\;">Fiber\, Glass\, Graphics\, Jewelry\, Metal\, Mixed Media\, Painting\, Pottery\, Sculpture\, Wood.</span><br style="box-sizing:content-box\;inset:auto\;content:normal\;empty-cells:show\;font-variant-numeric:inherit\;font-variant-east-asian:inherit\;font-variant-alternates:inherit\;font-variant-position:inherit\;font-variant-emoji:inherit\;font-stretch:inherit\;font-optical-sizing:inherit\;font-size-adjust:inherit\;font-kerning:inherit\;font-feature-settings:inherit\;font-variation-settings:inherit\;line-height:inherit\;max-height:none\;max-width:none\;min-height:initial\;min-width:initial\;opacity:1\;outline-offset:0px\;resize:none\;text-overflow:clip\;word-break:inherit\;overflow-wrap:inherit\;border-width:initial\;border-image:none 100% 1 0 / 1 / 0 stretch\;border-radius:0px\;float:none\;overflow:visible\;visibility:inherit\;z-index:auto\;" />\n<br style="box-sizing:content-box\;inset:auto\;content:normal\;empty-cells:show\;font-variant-numeric:inherit\;font-variant-east-asian:inherit\;font-variant-alternates:inherit\;font-variant-position:inherit\;font-variant-emoji:inherit\;font-stretch:inherit\;font-optical-sizing:inherit\;font-size-adjust:inherit\;font-kerning:inherit\;font-feature-settings:inherit\;font-variation-settings:inherit\;line-height:inherit\;max-height:none\;max-width:none\;min-height:initial\;min-width:initial\;opacity:1\;outline-offset:0px\;resize:none\;text-overflow:clip\;word-break:inherit\;overflow-wrap:inherit\;border-width:initial\;border-image:none 100% 1 0 / 1 / 0 stretch\;border-radius:0px\;float:none\;overflow:visible\;visibility:inherit\;z-index:auto\;" />\n<span style="background:white\;">ELIGIBILITY</span><br style="box-sizing:content-box\;inset:auto\;content:normal\;empty-cells:show\;font-variant-numeric:inherit\;font-variant-east-asian:inherit\;font-variant-alternates:inherit\;font-variant-position:inherit\;font-variant-emoji:inherit\;font-stretch:inherit\;font-optical-sizing:inherit\;font-size-adjust:inherit\;font-kerning:inherit\;font-feature-settings:inherit\;font-variation-settings:inherit\;line-height:inherit\;max-height:none\;max-width:none\;min-height:initial\;min-width:initial\;opacity:1\;outline-offset:0px\;resize:none\;text-overflow:clip\;word-break:inherit\;overflow-wrap:inherit\;border-width:initial\;border-image:none 100% 1 0 / 1 / 0 stretch\;border-radius:0px\;float:none\;overflow:visible\;visibility:inherit\;z-index:auto\;" />\n<span style="background:white\;">All media must be original in concept and execution and handmade by the exhibitor.</span></span></span></span><br />\n<br />\n<span style="color:#333333\;"><span style="font-family:open sans\,sans-serif\;"><span style="font-size:11.0pt\;">EVENT LINKS</span></span></span>\n<ul>\n	<li><span style="color:#333333\;"><span style="font-family:open sans\,sans-serif\;"><span style="font-size:11.0pt\;"><a href="https://www.harborspringschamber.com/form/view/35090" target="_blank">Registration Form</a></span></span></span></li>\n	<li><span style="color:#333333\;"><span style="font-family:open sans\,sans-serif\;"><span style="font-size:11.0pt\;"><a href="https://chambermaster.blob.core.windows.net/userfiles/UserFiles/chambers/2595/File/Art_Show/FinalArtFairBoothMap7.11.25.pdf" target="_blank">Updated Booth Map and Pricing</a></span></span></span></li>\n</ul>\n
LOCATION:Nub's Nob 500 Nub's Nob Road Harbor Springs\, MI 49740
UID:e.2595.18411
SEQUENCE:3
DTSTAMP:20260423T155337Z
URL:https://www.harborspringschamber.com/events/details/nmwc-hsacc-2025-nub-s-nob-artist-registration-now-open-18411
END:VEVENT

END:VCALENDAR
